BEGIN:VCALENDAR
VERSION:2.0
PRODID:-//Schoodic Institute - ECPv6.15.11//NONSGML v1.0//EN
CALSCALE:GREGORIAN
METHOD:PUBLISH
X-WR-CALNAME:Schoodic Institute
X-ORIGINAL-URL:https://schoodicinstitute.org
X-WR-CALDESC:Events for Schoodic Institute
REFRESH-INTERVAL;VALUE=DURATION:PT1H
X-Robots-Tag:noindex
X-PUBLISHED-TTL:PT1H
BEGIN:VTIMEZONE
TZID:America/New_York
BEGIN:DAYLIGHT
TZOFFSETFROM:-0500
TZOFFSETTO:-0400
TZNAME:EDT
DTSTART:20230312T070000
END:DAYLIGHT
BEGIN:STANDARD
TZOFFSETFROM:-0400
TZOFFSETTO:-0500
TZNAME:EST
DTSTART:20231105T060000
END:STANDARD
BEGIN:DAYLIGHT
TZOFFSETFROM:-0500
TZOFFSETTO:-0400
TZNAME:EDT
DTSTART:20240310T070000
END:DAYLIGHT
BEGIN:STANDARD
TZOFFSETFROM:-0400
TZOFFSETTO:-0500
TZNAME:EST
DTSTART:20241103T060000
END:STANDARD
BEGIN:DAYLIGHT
TZOFFSETFROM:-0500
TZOFFSETTO:-0400
TZNAME:EDT
DTSTART:20250309T070000
END:DAYLIGHT
BEGIN:STANDARD
TZOFFSETFROM:-0400
TZOFFSETTO:-0500
TZNAME:EST
DTSTART:20251102T060000
END:STANDARD
END:VTIMEZONE
BEGIN:VEVENT
DTSTART;VALUE=DATE:20240703
DTEND;VALUE=DATE:20240709
DTSTAMP:20260422T232354
CREATED:20240111T202547Z
LAST-MODIFIED:20240111T202547Z
UID:10581-1719964800-1720483199@schoodicinstitute.org
SUMMARY:Downeast Maine Puffins and Seabirds with Caretta Inspired Journeys
DESCRIPTION:Join Caretta Inspired Journeys for a taste of summer in Downeast Maine and experience the unique coastal islands of the North Atlantic! \nThis five-day excursion starts at the Bangor Maine Airport. From there we will travel to Rockland\, Maine for early afternoon briefings about about the Atlantic Puffins recovery at the Audubon Society’s Project Puffin. We will also learn about the protection and management of all the breeding seabirds on remote islands via an interactive zoom discussion with island researchers at the Maine Coastal Islands National Wildlife Refuge Visitor Center (MCINWR). Accommodations for all five nights are provided at Schoodic Institute. We are fortunate to be able to provide private room accommodations in 2 and 4 bedroom apartments at Schoodic Institute. Each apartment is equipped with a full kitchen and we will stop for grocery shopping on the way to Schoodic Institute that evening. \nThe trip includes a guided kayaking tour of Frenchman’s Bay on the 4th of July (weather-permitting\, fireworks from Bar Harbor and other coastal communities should be visible in the evening from where we’re staying). A MCINWR representative will guide a nature walk and beach clean-up activities on Petit Manan Point that is adjacent to a Puffin nesting colony. You’ll also have some time to make your own plans to take a group tour of Acadia National Park\, dine/shop in Bar Harbor\, or rent bikes/hike on the Schoodic Peninsula. Information on these DIY options will be sent when you register online. On Sunday\, July 7\, we will go on a two-hour Puffin Cruise out of Bar Harbor to benefit MCINWR through their Friends group. There will be staff on board who can communicate with island researchers to answer your questions. \nTo register\, click here.
URL:https://schoodicinstitute.org/event/downeast-maine-puffins-and-seabirds-with-caretta-inspired-journeys/
CATEGORIES:Puffins of Petit Manan
ATTACH;FMTTYPE=image/jpeg:https://schoodicinstitute.org/wp-content/uploads/2024/01/Caretta-Inspired-Journeys.jpg
END:VEVENT
BEGIN:VEVENT
DTSTART;VALUE=DATE:20240713
DTEND;VALUE=DATE:20240718
DTSTAMP:20260422T232354
CREATED:20240402T171622Z
LAST-MODIFIED:20240402T200147Z
UID:11159-1720828800-1721260799@schoodicinstitute.org
SUMMARY:Acadia’s Iconic Birds\, Whales\, and Scenic Views
DESCRIPTION:Join Schoodic Institute and Hillstar Nature Tours\, with guides Holly Merker and Seth Benz\, on July 13 – July 17\, 2024 to explore Acadia National Park! This exciting bird tour will feature an Atlantic puffin tour and a separate whalewatching tour in the nutrient-rich waters of the Gulf of Maine. Observe common loons\, shearwaters and humpback whales\, and learn about regional ecology at a comfortable pace. Plus\, you’ll enjoy an exclusive tour to the iconic summit of Cadillac Mountain in Acadia National Park. \nRegister now to experience the thrill of discovery while being immersed in Acadia National Park’s history and outstanding beauty\, her landscapes\, and seascapes. Below are some details of what you can expect from this tour: \n\n\n5 days in coastal Maine for puffins\, whales\, and more. \n\n\n\n\nrelaxed overall pace\, with dining and overnight accommodations at Schoodic Institute (right at Schoodic Point in Acadia!) \n\n\nmany scenic visits to Acadia National Park \n\n\nAll that\, plus two great guides! \n\n\nTo register and view a full daily itinerary\, please visit Hillstar Nature Tours.
URL:https://schoodicinstitute.org/event/acadias-iconic-birds-whales-and-scenic-views/
LOCATION:Rockefeller Hall\, Schoodic Institute at Acadia National park\, 9 Atterbury Circle\, Winter Harbor\, ME\, 04693\, United States
CATEGORIES:Bird Walks,Birding Tours,Puffins of Petit Manan
ATTACH;FMTTYPE=image/jpeg:https://schoodicinstitute.org/wp-content/uploads/2024/04/192-hillstar.jpg
END:VEVENT
END:VCALENDAR