BEGIN:VCALENDAR
VERSION:2.0
PRODID:-//Schoodic Institute - ECPv6.15.11//NONSGML v1.0//EN
CALSCALE:GREGORIAN
METHOD:PUBLISH
X-ORIGINAL-URL:https://schoodicinstitute.org
X-WR-CALDESC:Events for Schoodic Institute
REFRESH-INTERVAL;VALUE=DURATION:PT1H
X-Robots-Tag:noindex
X-PUBLISHED-TTL:PT1H
BEGIN:VTIMEZONE
TZID:America/New_York
BEGIN:DAYLIGHT
TZOFFSETFROM:-0500
TZOFFSETTO:-0400
TZNAME:EDT
DTSTART:20230312T070000
END:DAYLIGHT
BEGIN:STANDARD
TZOFFSETFROM:-0400
TZOFFSETTO:-0500
TZNAME:EST
DTSTART:20231105T060000
END:STANDARD
BEGIN:DAYLIGHT
TZOFFSETFROM:-0500
TZOFFSETTO:-0400
TZNAME:EDT
DTSTART:20240310T070000
END:DAYLIGHT
BEGIN:STANDARD
TZOFFSETFROM:-0400
TZOFFSETTO:-0500
TZNAME:EST
DTSTART:20241103T060000
END:STANDARD
BEGIN:DAYLIGHT
TZOFFSETFROM:-0500
TZOFFSETTO:-0400
TZNAME:EDT
DTSTART:20250309T070000
END:DAYLIGHT
BEGIN:STANDARD
TZOFFSETFROM:-0400
TZOFFSETTO:-0500
TZNAME:EST
DTSTART:20251102T060000
END:STANDARD
END:VTIMEZONE
BEGIN:VEVENT
DTSTART;TZID=America/New_York:20240920T120000
DTEND;TZID=America/New_York:20240920T133000
DTSTAMP:20260424T083608
CREATED:20240911T202620Z
LAST-MODIFIED:20240912T114454Z
UID:11968-1726833600-1726839000@schoodicinstitute.org
SUMMARY:Sea Level Rise Trail Tour
DESCRIPTION:Join us on Friday\, September 20th from 12pm-1:30pm at the Bar Harbor Oceanarium and Education Center for a bag lunch and tour of the sea level rise trail during the king tide! \nKing tides are the predicted highest high tide and lowest low tide of the year. They are important because they show us what rising seas will look like on the landscape. On Friday\, September 20th\, just after 12pm noon\, Mount Desert Island will experience a king tide\, and we invite you to explore the Oceanarium with us to learn more. \nMany people have questions about whether the January 2024 storms were an anomaly or a sign of what’s to come. When we hear “one foot of sea level rise”\, what does that look like on our coastline? Join Raney Bench from the Mount Desert Island Historical Society\, Jeff Cummming of the Oceanarium\, Catherine Schmitt of Schoodic Institute\, and artist Jennifer Steen Booher for a talk about sea level rise\, last winter’s storms\, and our future. Learn how to measure and mark predicted high tides in places around the island you care about\, and join us in a conversation about coastal resilience and how we can plan for the future. \nBring a bag lunch and wear sturdy shoes for this short walk through the marsh. \nInterested in learning more? Here are some helpful links: \nCoastlines Project \nGulf of Maine King Tides Project \nNews coverage from Mount Desert Islander \n \n 
URL:https://schoodicinstitute.org/event/sea-level-rise-trail-tour/
CATEGORIES:Community,Education,Family
ATTACH;FMTTYPE=image/jpeg:https://schoodicinstitute.org/wp-content/uploads/2024/09/Coastlines-9-20-Oceanarium-Banner.jpg
END:VEVENT
END:VCALENDAR